BEGIN:VCALENDAR
VERSION:2.0
PRODID:-//EventThem - ECPv6.15.17.1//NONSGML v1.0//EN
CALSCALE:GREGORIAN
METHOD:PUBLISH
X-ORIGINAL-URL:https://eventthem.com
X-WR-CALDESC:Events for EventThem
REFRESH-INTERVAL;VALUE=DURATION:PT1H
X-Robots-Tag:noindex
X-PUBLISHED-TTL:PT1H
BEGIN:VTIMEZONE
TZID:America/New_York
BEGIN:DAYLIGHT
TZOFFSETFROM:-0500
TZOFFSETTO:-0400
TZNAME:EDT
DTSTART:20240310T070000
END:DAYLIGHT
BEGIN:STANDARD
TZOFFSETFROM:-0400
TZOFFSETTO:-0500
TZNAME:EST
DTSTART:20241103T060000
END:STANDARD
BEGIN:DAYLIGHT
TZOFFSETFROM:-0500
TZOFFSETTO:-0400
TZNAME:EDT
DTSTART:20250309T070000
END:DAYLIGHT
BEGIN:STANDARD
TZOFFSETFROM:-0400
TZOFFSETTO:-0500
TZNAME:EST
DTSTART:20251102T060000
END:STANDARD
BEGIN:DAYLIGHT
TZOFFSETFROM:-0500
TZOFFSETTO:-0400
TZNAME:EDT
DTSTART:20260308T070000
END:DAYLIGHT
BEGIN:STANDARD
TZOFFSETFROM:-0400
TZOFFSETTO:-0500
TZNAME:EST
DTSTART:20261101T060000
END:STANDARD
END:VTIMEZONE
BEGIN:VEVENT
DTSTART;TZID=America/New_York:20250405T180000
DTEND;TZID=America/New_York:20250405T210000
DTSTAMP:20260424T122906
CREATED:20250313T165150Z
LAST-MODIFIED:20250320T170152Z
UID:4671-1743876000-1743886800@eventthem.com
SUMMARY:Watercolors in the Sky - Vinyl Release Celebration
DESCRIPTION:PURCHASE TICKETS HERE: https://buytickets.at/pravmusic/1613502 🎟️ \nJoin us for an evening of soulful and intimate live music as we celebrate the launch of Boston’s newest independent artist\, Prav\, and the release of his debut album\, WATERCOLORS IN THE SKY on vinyl. At this event\, Prav will perform a curated set of his original music\, including all of the songs from his debut release\, plus maybe a few cover songs that you might know. The show will also feature established independent artist Glimmer\, who will be performing a captivating set of her beautiful music. You don’t want to miss this event – it is going to be a magical and musical evening to remember! \nThis is a ticketed and seated\, family-friendly dry event at a super-cool venue (EventThem Studios)\, which will run from 6pm to 9pm. Doors will open at 6pm and performances will start at 6:30pm. Complimentary food and non-alcoholic beverages will be provided. Also\, if you haven’t already pre-ordered it\, the vinyl version of Prav’s debut album will be available for purchase during the event. \nWhere: EventThem Studios\, 344 Salem St\, Medford\, MA 02155  [Note: Salem St has lots of free street parking] \nWhen: Saturday April 5th at 6pm-9pm \nTickets: General Admission is $25\, Vinyl Admission is $45* \n*Vinyl admission ticket holders will be gifted a signed vinyl record to take home (please select 1 of 3 color options during ticket checkout: transparent blue vinyl\, transparent emerald-green vinyl\, or a splatter-color vinyl). \nAbout the Performers: \n \nPrav – Prav is a Boston-based multi-instrumental musician\, singer-songwriter and independent artist who blends classic soul with rhythm & blues and modern pop to craft uplifting songs with words of experience. After years of developing his craft as a musician\, songwriter\, and live performer\, Prav took a break in 2024 from his original career to focus on music full-time and make his debut record while simultaneously injecting his positive energy into Boston’s live music scene. Expressed through a timeless yet modern sound\, Prav’s songs are centered around elevating hope\, appreciating love\, and connecting to the divine. Learn more at: pravmusic.com and https://www.instagram.com/prav.music \n \nGlimmer – Glimmer is a Boston-based singer-songwriter and pianist whose lyrics are inspired by matters of the heart\, patterns of the mind\, and the winding path towards self-love. Drawing from a broad range of influences from Tori Amos to the Supremes\, Glimmer writes piano ballads and soul-pop songs that explore the shifting faultline between heartbreak and healing\, her imagery-infused lyrics combining candid confessions with a hint of wry humor. Also a mental health advocate\, Glimmer believes music is the closest thing we have to magic: the ability to transmute pain\, loss\, and even despair into something beautiful. Learn more at: https://glimmersings.bandcamp.com/ and https://www.instagram.com/jocelynlimmer128 \nAdditional Info: \nParking: Do not park in the lot behind EventThem Studios as this is for resident parking and your vehicle might get towed. Salem Street has lots of free street parking. \nEventThem Studios: https://eventthem.com/studios/ \nYou can order your copy of WATERCOLORS IN THE SKY on vinyl at any of the following websites: \n\nBANDCAMP: https://pravmusic.bandcamp.com/merch\nAMPWALL: https://ampwall.com/a/prav/merch/watercolors-in-the-sky-vinyl-record\nPRAV’S WEBSITE: https://pravmusic.com/shop/p/watercolors-in-the-sky-vinyl-record-format\n\nNote: Since we (Prav Music LLC) are an independent small business\, all ticket sales are final and we cannot offer refunds or ticket cancellations if you are unable to attend. However\, you are welcome to have someone else attend the event in your place. Just ensure that they have the ticket QR/bar codes and tell them to provide your name at the door if requested. Additionally\, if you choose to resell your tickets\, please do not sell them for a higher price than what you originally paid. Thank you so much for supporting ethical event ticketing. \nThis event is proudly organized\, produced and presented by Prav Music LLC.\n \n\n\nLOCATION\nEventThem Studios\, 344 Salem St\, Medford\, MA\, 02155
URL:https://eventthem.com/ec-event/watercolors-in-the-sky-vinyl-release-celebration/
LOCATION:EventThem Studios\, 344 Salem Street\, Medford\, MA\, 02155\, United States
CATEGORIES:Art,Community,Family-Friendly,Food,Live Music
ATTACH;FMTTYPE=image/jpeg:https://eventthem.com/wp-content/uploads/2025/03/unnamed-2.jpg
ORGANIZER;CN="EventThem Studios":MAILTO:info@eventthem.com
END:VEVENT
END:VCALENDAR