BEGIN:VCALENDAR
VERSION:2.0
PRODID:-//EventThem - ECPv6.15.17.1//NONSGML v1.0//EN
CALSCALE:GREGORIAN
METHOD:PUBLISH
X-WR-CALNAME:EventThem
X-ORIGINAL-URL:https://eventthem.com
X-WR-CALDESC:Events for EventThem
REFRESH-INTERVAL;VALUE=DURATION:PT1H
X-Robots-Tag:noindex
X-PUBLISHED-TTL:PT1H
BEGIN:VTIMEZONE
TZID:America/New_York
BEGIN:DAYLIGHT
TZOFFSETFROM:-0500
TZOFFSETTO:-0400
TZNAME:EDT
DTSTART:20240310T070000
END:DAYLIGHT
BEGIN:STANDARD
TZOFFSETFROM:-0400
TZOFFSETTO:-0500
TZNAME:EST
DTSTART:20241103T060000
END:STANDARD
BEGIN:DAYLIGHT
TZOFFSETFROM:-0500
TZOFFSETTO:-0400
TZNAME:EDT
DTSTART:20250309T070000
END:DAYLIGHT
BEGIN:STANDARD
TZOFFSETFROM:-0400
TZOFFSETTO:-0500
TZNAME:EST
DTSTART:20251102T060000
END:STANDARD
BEGIN:DAYLIGHT
TZOFFSETFROM:-0500
TZOFFSETTO:-0400
TZNAME:EDT
DTSTART:20260308T070000
END:DAYLIGHT
BEGIN:STANDARD
TZOFFSETFROM:-0400
TZOFFSETTO:-0500
TZNAME:EST
DTSTART:20261101T060000
END:STANDARD
END:VTIMEZONE
BEGIN:VEVENT
DTSTART;TZID=America/New_York:20251105T180000
DTEND;TZID=America/New_York:20251105T200000
DTSTAMP:20260422T193349
CREATED:20251011T164616Z
LAST-MODIFIED:20251011T164947Z
UID:5108-1762365600-1762372800@eventthem.com
SUMMARY:Opening Reception: Kristen Freitas – Are You Feeling Blue?
DESCRIPTION:Opening Reception – Kristen Freitas: Are You Feeling Blue?\nWednesday\, November 5th | 6:00–8:00 PM | EventThem Studios\nCelebrate the launch of Are You Feeling Blue?\, a new solo exhibit by Kristen Freitas\, on view from October 30th–November 30th at EventThem Studios. This evening reception invites guests to explore Kristen’s latest collection of fluid acrylic paintings while enjoying light refreshments and casual conversation with the artist. \nAre You Feeling Blue? explores the emotional resonance of color through layered\, flowing compositions. Kristen’s technique captures rhythm and movement\, evoking feelings of calm\, introspection\, and connection. Her work reflects the beauty found in stillness and the human response to color and form. \nGuests will have the opportunity to learn about Kristen’s process\, ask questions\, and gain insight into her experience as both an artist and a community advocate. Whether you’re an art enthusiast or simply curious\, this is a great way to engage with local art and support Medford’s creative community. \nThis event is free and open to the public — come connect\, unwind\, and experience an evening of art and inspiration. \nAbout the Artist:\nKristen Freitas is a Newton-based artist and community advocate dedicated to making art accessible to all. She is a member of Atlantic Works Gallery (AWG) and an active organizer of local exhibitions and arts programming. \n🔗 Visit Kristen’s Website    🔗 Follow Kristen on Instagram \nFollow EventThem!\nInstagram (@EventThemBoston) | LinkedIn | Facebook
URL:https://eventthem.com/ec-event/opening-reception-kristen-freitas-are-you-feeling-blue/
LOCATION:EventThem Studios\, 344 Salem Street\, Medford\, MA\, 02155\, United States
CATEGORIES:Art,Community,Exhibits / Gallery Shows,Family-Friendly,Food,Opening Reception
ATTACH;FMTTYPE=image/png:https://eventthem.com/wp-content/uploads/2025/10/16.png
ORGANIZER;CN="EventThem Studios":MAILTO:info@eventthem.com
END:VEVENT
END:VCALENDAR