BEGIN:VCALENDAR
VERSION:2.0
PRODID:-//EventThem - ECPv6.15.17.1//NONSGML v1.0//EN
CALSCALE:GREGORIAN
METHOD:PUBLISH
X-ORIGINAL-URL:https://eventthem.com
X-WR-CALDESC:Events for EventThem
REFRESH-INTERVAL;VALUE=DURATION:PT1H
X-Robots-Tag:noindex
X-PUBLISHED-TTL:PT1H
BEGIN:VTIMEZONE
TZID:America/New_York
BEGIN:DAYLIGHT
TZOFFSETFROM:-0500
TZOFFSETTO:-0400
TZNAME:EDT
DTSTART:20240310T070000
END:DAYLIGHT
BEGIN:STANDARD
TZOFFSETFROM:-0400
TZOFFSETTO:-0500
TZNAME:EST
DTSTART:20241103T060000
END:STANDARD
BEGIN:DAYLIGHT
TZOFFSETFROM:-0500
TZOFFSETTO:-0400
TZNAME:EDT
DTSTART:20250309T070000
END:DAYLIGHT
BEGIN:STANDARD
TZOFFSETFROM:-0400
TZOFFSETTO:-0500
TZNAME:EST
DTSTART:20251102T060000
END:STANDARD
BEGIN:DAYLIGHT
TZOFFSETFROM:-0500
TZOFFSETTO:-0400
TZNAME:EDT
DTSTART:20260308T070000
END:DAYLIGHT
BEGIN:STANDARD
TZOFFSETFROM:-0400
TZOFFSETTO:-0500
TZNAME:EST
DTSTART:20261101T060000
END:STANDARD
END:VTIMEZONE
BEGIN:VEVENT
DTSTART;TZID=America/New_York:20251122T100000
DTEND;TZID=America/New_York:20251122T120000
DTSTAMP:20260422T223626
CREATED:20251011T165515Z
LAST-MODIFIED:20251025T143958Z
UID:5115-1763805600-1763812800@eventthem.com
SUMMARY:Printmaking Workshop with Kristen Freitas
DESCRIPTION:Printmaking Workshop – Gel Plate Monoprinting with Kristen Freitas\nSaturday\, November 22th | 10:00 AM – 12:00 PM | EventThem Studios\nJoin artist Kristen Freitas for a creative and hands-on Printmaking Workshop designed for artists of all levels. No experience necessary — just bring your curiosity and a willingness to explore. \nIn this engaging session\, Kristen will guide participants through the process of gel plate monoprinting\, a fun and accessible form of printmaking that doesn’t require a press. You’ll learn how to layer paints\, textures\, and stencils to create one-of-a-kind prints bursting with color and character. Each participant will leave with their own set of original prints and a deeper understanding of how to experiment with composition and color. \nAll materials are provided\, including gel plates\, paints\, papers\, brayers\, and tools. This workshop is perfect for anyone interested in exploring abstract art\, color theory\, or tactile creative techniques in a relaxed\, supportive setting. \nTickets are available at $47.60/per person –– spots are limited so grab your seats now! \nPURCHASE YOUR TICKETS HERE – ONLY 15 SPOTS AVAILABLE!\n\nAbout the Artist:\nKristen Freitas is a multi-disciplinary artist and community advocate based in Newton\, MA\, and a proud member of Atlantic Works Gallery (AWG) in East Boston. Known for her expressive fluid acrylic paintings and commitment to accessible arts education\, Kristen’s work explores emotion\, rhythm\, and the transformative power of color. \n🔗 Visit Kristen’s Website \n📸 Follow Kristen on Instagram \nFollow EventThem!\nInstagram (@EventThemBoston) | LinkedIn | Facebook
URL:https://eventthem.com/ec-event/printmaking-workshop-with-kristen-freitas/
LOCATION:EventThem Studios\, 344 Salem Street\, Medford\, MA\, 02155\, United States
CATEGORIES:Art,Community,Family-Friendly,Workshop
ATTACH;FMTTYPE=image/png:https://eventthem.com/wp-content/uploads/2025/10/17.png
ORGANIZER;CN="EventThem Studios":MAILTO:info@eventthem.com
END:VEVENT
END:VCALENDAR