BEGIN:VCALENDAR
VERSION:2.0
PRODID:-//EventThem - ECPv6.15.17.1//NONSGML v1.0//EN
CALSCALE:GREGORIAN
METHOD:PUBLISH
X-WR-CALNAME:EventThem
X-ORIGINAL-URL:https://eventthem.com
X-WR-CALDESC:Events for EventThem
REFRESH-INTERVAL;VALUE=DURATION:PT1H
X-Robots-Tag:noindex
X-PUBLISHED-TTL:PT1H
BEGIN:VTIMEZONE
TZID:America/New_York
BEGIN:DAYLIGHT
TZOFFSETFROM:-0500
TZOFFSETTO:-0400
TZNAME:EDT
DTSTART:20250309T070000
END:DAYLIGHT
BEGIN:STANDARD
TZOFFSETFROM:-0400
TZOFFSETTO:-0500
TZNAME:EST
DTSTART:20251102T060000
END:STANDARD
BEGIN:DAYLIGHT
TZOFFSETFROM:-0500
TZOFFSETTO:-0400
TZNAME:EDT
DTSTART:20260308T070000
END:DAYLIGHT
BEGIN:STANDARD
TZOFFSETFROM:-0400
TZOFFSETTO:-0500
TZNAME:EST
DTSTART:20261101T060000
END:STANDARD
BEGIN:DAYLIGHT
TZOFFSETFROM:-0500
TZOFFSETTO:-0400
TZNAME:EDT
DTSTART:20270314T070000
END:DAYLIGHT
BEGIN:STANDARD
TZOFFSETFROM:-0400
TZOFFSETTO:-0500
TZNAME:EST
DTSTART:20271107T060000
END:STANDARD
END:VTIMEZONE
BEGIN:VEVENT
DTSTART;VALUE=DATE:20260410
DTEND;VALUE=DATE:20260411
DTSTAMP:20260423T164526
CREATED:20260320T015610Z
LAST-MODIFIED:20260401T173654Z
UID:5696-1775779200-1775865599@eventthem.com
SUMMARY:Taste of Somerville: Call For Restaurants
DESCRIPTION:Calling all restaurants for the 2026 Taste of Somerville 🍽️\nWe’re excited to invite local restaurants and food partners to join this year’s event on Wednesday\, June 10 from 5 to 8 PM at Boynton Yards Campus\, 101 South Street. Rain date is June 11. \nIf you’d like to be part of this community food event\, now’s the time to apply. It’s a great chance to get your restaurant in front of a big crowd\, promote your business\, and celebrate Somerville’s amazing food scene. \nRestaurant intake form\, deadline to submit is April 10th: https://lnkd.in/ejSnKMXU \nWe look forward to seeing you on June 10th!
URL:https://eventthem.com/ec-event/taste-of-somerville-call-for-restaurants-2/
LOCATION:Boynton Yards\, 110 South Street\, Somerville\, MA\, 02143\, United States
CATEGORIES:Community,Family-Friendly,Festivals,Food
ATTACH;FMTTYPE=image/png:https://eventthem.com/wp-content/uploads/2026/03/35-1.png
END:VEVENT
END:VCALENDAR