BEGIN:VCALENDAR
VERSION:2.0
PRODID:-//EventThem - ECPv6.15.17.1//NONSGML v1.0//EN
CALSCALE:GREGORIAN
METHOD:PUBLISH
X-ORIGINAL-URL:https://eventthem.com
X-WR-CALDESC:Events for EventThem
REFRESH-INTERVAL;VALUE=DURATION:PT1H
X-Robots-Tag:noindex
X-PUBLISHED-TTL:PT1H
BEGIN:VTIMEZONE
TZID:America/New_York
BEGIN:DAYLIGHT
TZOFFSETFROM:-0500
TZOFFSETTO:-0400
TZNAME:EDT
DTSTART:20240310T070000
END:DAYLIGHT
BEGIN:STANDARD
TZOFFSETFROM:-0400
TZOFFSETTO:-0500
TZNAME:EST
DTSTART:20241103T060000
END:STANDARD
BEGIN:DAYLIGHT
TZOFFSETFROM:-0500
TZOFFSETTO:-0400
TZNAME:EDT
DTSTART:20250309T070000
END:DAYLIGHT
BEGIN:STANDARD
TZOFFSETFROM:-0400
TZOFFSETTO:-0500
TZNAME:EST
DTSTART:20251102T060000
END:STANDARD
BEGIN:DAYLIGHT
TZOFFSETFROM:-0500
TZOFFSETTO:-0400
TZNAME:EDT
DTSTART:20260308T070000
END:DAYLIGHT
BEGIN:STANDARD
TZOFFSETFROM:-0400
TZOFFSETTO:-0500
TZNAME:EST
DTSTART:20261101T060000
END:STANDARD
END:VTIMEZONE
BEGIN:VEVENT
DTSTART;TZID=America/New_York:20251129T140000
DTEND;TZID=America/New_York:20251129T170000
DTSTAMP:20260425T141127
CREATED:20251011T170406Z
LAST-MODIFIED:20251029T195730Z
UID:5119-1764424800-1764435600@eventthem.com
SUMMARY:Sip & Shop Art Market at EventThem Studios
DESCRIPTION:Sip & Shop Art Market – Small Business Saturday at EventThem Studios\nSaturday\, November 29th | Time: 2 – 5 PM | EventThem Studios\nMark your calendars for our Sip & Shop Art Market! Celebrate Small Business Saturday with local artists and makers at EventThem Studios. Browse handmade art\, prints\, jewelry\, and more — perfect for thoughtful and unique holiday gifts. \nEnjoy drinks\, light refreshments\, and a cozy afternoon connecting with Medford’s creative community. Follow us on Instagram for vendor announcements and event updates! \n🔗 Follow Kristen Freitas on Instagram (featured artist) \n🔗 Follow EventThem on LinkedIn & Facebook! \n 
URL:https://eventthem.com/ec-event/sip-shop-art-market-small-business-saturday-at-eventthem-studios/
LOCATION:EventThem Studios\, 344 Salem Street\, Medford\, MA\, 02155\, United States
CATEGORIES:Art,Art Market,Community,Family-Friendly,Food
ATTACH;FMTTYPE=image/png:https://eventthem.com/wp-content/uploads/2025/10/ET-Site-Constraints-2.png
ORGANIZER;CN="EventThem Studios":MAILTO:info@eventthem.com
END:VEVENT
END:VCALENDAR