BEGIN:VCALENDAR
VERSION:2.0
PRODID:-//EventThem - ECPv6.15.17.1//NONSGML v1.0//EN
CALSCALE:GREGORIAN
METHOD:PUBLISH
X-ORIGINAL-URL:https://eventthem.com
X-WR-CALDESC:Events for EventThem
REFRESH-INTERVAL;VALUE=DURATION:PT1H
X-Robots-Tag:noindex
X-PUBLISHED-TTL:PT1H
BEGIN:VTIMEZONE
TZID:America/New_York
BEGIN:DAYLIGHT
TZOFFSETFROM:-0500
TZOFFSETTO:-0400
TZNAME:EDT
DTSTART:20230312T070000
END:DAYLIGHT
BEGIN:STANDARD
TZOFFSETFROM:-0400
TZOFFSETTO:-0500
TZNAME:EST
DTSTART:20231105T060000
END:STANDARD
BEGIN:DAYLIGHT
TZOFFSETFROM:-0500
TZOFFSETTO:-0400
TZNAME:EDT
DTSTART:20240310T070000
END:DAYLIGHT
BEGIN:STANDARD
TZOFFSETFROM:-0400
TZOFFSETTO:-0500
TZNAME:EST
DTSTART:20241103T060000
END:STANDARD
BEGIN:DAYLIGHT
TZOFFSETFROM:-0500
TZOFFSETTO:-0400
TZNAME:EDT
DTSTART:20250309T070000
END:DAYLIGHT
BEGIN:STANDARD
TZOFFSETFROM:-0400
TZOFFSETTO:-0500
TZNAME:EST
DTSTART:20251102T060000
END:STANDARD
END:VTIMEZONE
BEGIN:VEVENT
DTSTART;TZID=America/New_York:20240915T120000
DTEND;TZID=America/New_York:20240915T150000
DTSTAMP:20260421T213246
CREATED:20240910T194840Z
LAST-MODIFIED:20240910T194840Z
UID:3851-1726401600-1726412400@eventthem.com
SUMMARY:Open Mic Time: A Creatives' Safe Space
DESCRIPTION:Get ready for a night of creativity\, connection\, and empowerment at our Open Mic Time: A Creatives’ Safe Space! This event is designed to provide a welcoming environment where artists\, musicians\, poets\, and storytellers can share their work and connect with others who are passionate about creativity. Hosted by Cassidy Amber Chapman at EventThem Studios. \nWhether you’re a seasoned performer or just looking for a supportive space to share your art for the first time\, this event is for you. Expect a lively and inclusive atmosphere where all forms of creative expression are celebrated. \nWhat to Expect: \n\nA diverse lineup of performances from local artists\nOpportunities to network and connect with fellow creatives\nA supportive community that values and encourages artistic expression\nAccess to the vibrant space at EventThem Studios\, perfect for showcasing your talent\nRefreshments available for purchase to keep the energy going\n\nEvent Details: \n\nDate: Sunday\, September 15th\nTime: 12:00 PM – 3:00 PM\nLocation: EventThem Studios\, 344 Salem St\, Medford\, MA 02155\n\nCome ready to be inspired and to inspire others. We can’t wait to see what you’ll share!
URL:https://eventthem.com/ec-event/open-mic-time-a-creatives-safe-space/
LOCATION:EventThem Studios\, 344 Salem Street\, Medford\, MA\, 02155\, United States
CATEGORIES:Community,Family-Friendly,Networking,Wellness
ATTACH;FMTTYPE=image/png:https://eventthem.com/wp-content/uploads/2024/09/OpenMicTime_Poster.png
ORGANIZER;CN="EventThem Studios":MAILTO:info@eventthem.com
END:VEVENT
END:VCALENDAR