BEGIN:VCALENDAR
VERSION:2.0
PRODID:-//EventThem - ECPv6.15.17.1//NONSGML v1.0//EN
CALSCALE:GREGORIAN
METHOD:PUBLISH
X-ORIGINAL-URL:https://eventthem.com
X-WR-CALDESC:Events for EventThem
REFRESH-INTERVAL;VALUE=DURATION:PT1H
X-Robots-Tag:noindex
X-PUBLISHED-TTL:PT1H
BEGIN:VTIMEZONE
TZID:America/New_York
BEGIN:DAYLIGHT
TZOFFSETFROM:-0500
TZOFFSETTO:-0400
TZNAME:EDT
DTSTART:20250309T070000
END:DAYLIGHT
BEGIN:STANDARD
TZOFFSETFROM:-0400
TZOFFSETTO:-0500
TZNAME:EST
DTSTART:20251102T060000
END:STANDARD
BEGIN:DAYLIGHT
TZOFFSETFROM:-0500
TZOFFSETTO:-0400
TZNAME:EDT
DTSTART:20260308T070000
END:DAYLIGHT
BEGIN:STANDARD
TZOFFSETFROM:-0400
TZOFFSETTO:-0500
TZNAME:EST
DTSTART:20261101T060000
END:STANDARD
BEGIN:DAYLIGHT
TZOFFSETFROM:-0500
TZOFFSETTO:-0400
TZNAME:EDT
DTSTART:20270314T070000
END:DAYLIGHT
BEGIN:STANDARD
TZOFFSETFROM:-0400
TZOFFSETTO:-0500
TZNAME:EST
DTSTART:20271107T060000
END:STANDARD
END:VTIMEZONE
BEGIN:VEVENT
DTSTART;TZID=America/New_York:20260401T100000
DTEND;TZID=America/New_York:20260430T180000
DTSTAMP:20260424T050758
CREATED:20260304T203830Z
LAST-MODIFIED:20260320T015141Z
UID:5588-1775037600-1777572000@eventthem.com
SUMMARY:Edward Rocha – Ecos y Reflejos Exhibition
DESCRIPTION:Edward Rocha – Ecos y Reflejos Exhibit\nOn view from April 1st-30th.\nEcos y Reflejos is a solo exhibition by Edward Rocha exploring the space where memory\, emotion\, and movement intersect. Through layered abstraction and bold\, intuitive mark-making\, Rocha creates paintings that feel alive – surfaces where color pulses\, gestures echo\, and earlier moments remain visible beneath the present. \nThis body of work reflects on resonance and transformation\, inviting viewers to see themselves within the tension between intensity and calm\, instinct and control – a meditation on what lingers\, what shifts\, and what quietly reveals itself over time.  \nStop by to view during studio hours\, or reserve a time here. \nWe welcome you to attend our Opening Reception on April 2nd\, and join us for two Paint & Sip workshops: Rainy Paris (4/16) and Abstraction (4/28). \nAbout the Artist:\nEdward Rocha is a proud Tejano\, born and raised in rural Texas. He has always enjoyed building\, making\, and creating things. The pandemic allowed him to take pen to paper and brush to canvas. He’s been inspired by his hometown\, loving family\, and experiences that he has been blessed to have.  \nHe started his art career as a hobbyist and\, like many\, by attending the local paint bar. Through years of practice\, a few art classes\, and mentorship from local artists\, he has continued to experiment with color and paint\, as well as style.  \nCreative expression has led him to author children’s books\, dedicated to his hometown and his loving parents\, as well as launch a coaching business for creatives. \nFollow Ed!\nWebsite | Instagram (@EdwardRochaArt)  \nFollow EventThem!\nInstagram (@EventThemBoston) | Facebook | LinkedIn
URL:https://eventthem.com/ec-event/coming-soon-ecos-y-reflejos-by-edward-rocha/
LOCATION:EventThem Studios\, 344 Salem Street\, Medford\, MA\, 02155\, United States
CATEGORIES:Art,Exhibits / Gallery Shows
ATTACH;FMTTYPE=image/png:https://eventthem.com/wp-content/uploads/2026/03/29.png
ORGANIZER;CN="EventThem Studios":MAILTO:info@eventthem.com
END:VEVENT
BEGIN:VEVENT
DTSTART;TZID=America/New_York:20260429T180000
DTEND;TZID=America/New_York:20260429T200000
DTSTAMP:20260424T050758
CREATED:20260413T210249Z
LAST-MODIFIED:20260422T204749Z
UID:5865-1777485600-1777492800@eventthem.com
SUMMARY:Noche Latina – A Latinx Networking Night & Closing Reception by Edward Rocha
DESCRIPTION:Noche Latina – A Latinx Networking Night & Closing Reception by Edward Rocha\nWednesday\, April 29th | 6:00 – 8:00 PM | EventThem Studios | FREE – RSVP\nEventThem Studios is excited to announce the upcoming Latinx Networking Night & Closing Reception hosted by Edward Rocha\, celebrating the end of his incredible exhibit\, Ecos y Reflejos. \nThis special evening brings together creatives\, professionals\, and community members for a night centered on connection\, culture\, and shared experience. Guests are invited to engage with the work one final time while building meaningful relationships in an open and welcoming environment. \nThe event will include a cash bar\, opportunities to network\, and a celebratory atmosphere honoring both the exhibition and the community surrounding it. \nFollow Ed!\n\nedwardrochaart.com | @EdwardRochaArt \nFollow EventThem!\n@EventThemBoston (IG) | @EventThem (Facebook) | @EventThem (LinkedIn)
URL:https://eventthem.com/ec-event/ed-rocha-latinx-networking-night-closing-reception/
LOCATION:EventThem Studios\, 344 Salem Street\, Medford\, MA\, 02155\, United States
CATEGORIES:Art,Closing Reception,Community,Exhibits / Gallery Shows,Networking
ATTACH;FMTTYPE=image/png:https://eventthem.com/wp-content/uploads/2026/04/Noche-Latina.png
END:VEVENT
BEGIN:VEVENT
DTSTART;VALUE=DATE:20260602
DTEND;VALUE=DATE:20260701
DTSTAMP:20260424T050758
CREATED:20260320T022324Z
LAST-MODIFIED:20260422T203137Z
UID:5706-1780358400-1782863999@eventthem.com
SUMMARY:Matt Hassan Exhibition – Flying Home
DESCRIPTION:Flying Home: An Exhibit by Matt Hassan\, Presented by EventThem Studios\nOn view from June 2nd-30th\nAbout the Artist & Exhibit:\nI’m Matt Hassan\, born 최경수. \nIn the spring of 2025 I returned to Korea for the first time since being adopted. Previously l’d made art all my life\, but never in a way that connected to my cultural identity. \nIn Korea I experienced amazing people\, places\, and l also brought back traditional art supplies. Since getting back I’ve used them to capture memories from the trip and explore art making from a Korean adoptee’s perspective. \nThroughout June my solo art exhibition will be on view at EventThem Studios. You’ll find art that I created both before and after my trip to Korea. Every piece is a part of my journey as an artist and also as an adoptee. \nI’m looking forward to the opportunity to connect with you through my art! \nmatthassanart.com | @matthassanart
URL:https://eventthem.com/ec-event/coming-soon-matt-hassan-exhibition-june-2026/
LOCATION:EventThem Studios\, 344 Salem Street\, Medford\, MA\, 02155\, United States
CATEGORIES:Art,Exhibits / Gallery Shows
ATTACH;FMTTYPE=image/png:https://eventthem.com/wp-content/uploads/2026/03/Matt-Hassan-Exhibition-Flying-Home.png
ORGANIZER;CN="EventThem Studios":MAILTO:info@eventthem.com
END:VEVENT
END:VCALENDAR