BEGIN:VCALENDAR
VERSION:2.0
PRODID:-//EventThem - ECPv6.15.17.1//NONSGML v1.0//EN
CALSCALE:GREGORIAN
METHOD:PUBLISH
X-WR-CALNAME:EventThem
X-ORIGINAL-URL:https://eventthem.com
X-WR-CALDESC:Events for EventThem
REFRESH-INTERVAL;VALUE=DURATION:PT1H
X-Robots-Tag:noindex
X-PUBLISHED-TTL:PT1H
BEGIN:VTIMEZONE
TZID:America/New_York
BEGIN:DAYLIGHT
TZOFFSETFROM:-0500
TZOFFSETTO:-0400
TZNAME:EDT
DTSTART:20250309T070000
END:DAYLIGHT
BEGIN:STANDARD
TZOFFSETFROM:-0400
TZOFFSETTO:-0500
TZNAME:EST
DTSTART:20251102T060000
END:STANDARD
BEGIN:DAYLIGHT
TZOFFSETFROM:-0500
TZOFFSETTO:-0400
TZNAME:EDT
DTSTART:20260308T070000
END:DAYLIGHT
BEGIN:STANDARD
TZOFFSETFROM:-0400
TZOFFSETTO:-0500
TZNAME:EST
DTSTART:20261101T060000
END:STANDARD
BEGIN:DAYLIGHT
TZOFFSETFROM:-0500
TZOFFSETTO:-0400
TZNAME:EDT
DTSTART:20270314T070000
END:DAYLIGHT
BEGIN:STANDARD
TZOFFSETFROM:-0400
TZOFFSETTO:-0500
TZNAME:EST
DTSTART:20271107T060000
END:STANDARD
END:VTIMEZONE
BEGIN:VEVENT
DTSTART;TZID=America/New_York:20260312T180000
DTEND;TZID=America/New_York:20260312T200000
DTSTAMP:20260421T020124
CREATED:20251220T220616Z
LAST-MODIFIED:20260304T201623Z
UID:5409-1773338400-1773345600@eventthem.com
SUMMARY:Closing Reception: Adèle Patnaude – The Art of Aquarius
DESCRIPTION:Adèle Patnaude – The Art of Aquarius Closing Reception \nThursday\, March 12th | 5:00 – 7:00 PM | EventThem Studios\nWe welcome you to celebrate The Art of Aquarius\, a debut solo exhibit by Adèle Patnaude on Thursday\, March 12th\, 5:00–7:00 PM at our Closing Reception. This will be the final day of viewing\, you don’t want to miss the chance to see these incredible pieces! \nGuests will have the opportunity to learn about Adèle’s process\, ask questions\, and gain insight into her experiences that inspire her work. Whether you’re an art enthusiast or simply curious\, this is a great way to engage with local art and support Boston’s creative community. \nThis event is free and open to the public — come connect\, unwind\, and experience an evening of art and inspiration. \nAbout the Exhibit:\nAs the world shifts from the age of Pisces into the dawning era of Aquarius\, we enter a time defined by innovation\, intuition\, and the unapologetically strange. This exhibition is born from that cosmic turning point. \nThe Art of Aquarius is my debut solo show—an exploration of what it means to step into a new astrological age where collective consciousness\, radical authenticity\, and visionary imagination take center stage. The Aquarian era invites us to break form\, embrace eccentricity\, and reimagine the structures we once took for granted. It is a time when the surreal becomes familiar and the familiar becomes something otherworldly. \nMy work\, rooted in ethereal landscapes and dreamlike natural scenes\, meets the odd\, electric spirit of Aquarius in a deliberate contrast. The paintings float in a cosmos inspired by the beautiful weirdness of David Bowie’s Space Oddityand the uncanny\, speculative wonder of The Twilight Zone. In this body of work\, softness meets strangeness; serenity meets the cosmic unknown. \nThe Art of Aquarius celebrates the tension between earthly peace and outer-space mystery—a visual constellation of portals\, daydreams\, and moments suspended in time. It invites viewers to wander between dimensions\, to inhabit the threshold between what is real and what is imagined\, and to embrace the strange new era we are stepping into together. \nAbout Adele:\nNow balancing a career in finance with her artistic pursuits\, Adéle’s paintings are a reflection of the peace we look for in nature. Each piece combines Impressionism with a touch of imagination\, capturing the beauty and tranquility of everyday life. Through her work\, she hopes to inspire others to embrace creativity and discover their own moments of serenity. \nWhen not painting\, Adéle enjoys exploring galleries\, sharing live music with friends\, and drawing inspiration from her surroundings. She is an active member of The Art Gallery (TAG)\, Fort Point Artist Community\, and East Boston Artist Group\, where she currently serves as Vice President. \nFollow Adéle!\nInstagram (@AdelePatnaudeArt) | Website \nFollow EventThem!\nInstagram (@EventThemBoston) | Facebook | LinkedIn
URL:https://eventthem.com/ec-event/closing-reception-adele-patnaude-the-art-of-aquarius/
LOCATION:EventThem Studios\, 344 Salem Street\, Medford\, MA\, 02155\, United States
CATEGORIES:Art,Closing Reception,Community,Family-Friendly,Food
ATTACH;FMTTYPE=image/png:https://eventthem.com/wp-content/uploads/2025/12/Screenshot-2026-03-04-at-3.15.15-PM.png
ORGANIZER;CN="EventThem Studios":MAILTO:info@eventthem.com
END:VEVENT
END:VCALENDAR